BEGIN:VCALENDAR
VERSION:2.0
PRODID:-//Canadian BBQ Society - ECPv6.15.11//NONSGML v1.0//EN
CALSCALE:GREGORIAN
METHOD:PUBLISH
X-WR-CALNAME:Canadian BBQ Society
X-ORIGINAL-URL:https://cbbqs.ca
X-WR-CALDESC:Events for Canadian BBQ Society
REFRESH-INTERVAL;VALUE=DURATION:PT1H
X-Robots-Tag:noindex
X-PUBLISHED-TTL:PT1H
BEGIN:VTIMEZONE
TZID:America/Regina
BEGIN:STANDARD
TZOFFSETFROM:-0600
TZOFFSETTO:-0600
TZNAME:CST
DTSTART:20230101T000000
END:STANDARD
END:VTIMEZONE
BEGIN:VTIMEZONE
TZID:UTC
BEGIN:STANDARD
TZOFFSETFROM:+0000
TZOFFSETTO:+0000
TZNAME:UTC
DTSTART:20230101T000000
END:STANDARD
END:VTIMEZONE
BEGIN:VTIMEZONE
TZID:America/Toronto
BEGIN:DAYLIGHT
TZOFFSETFROM:-0500
TZOFFSETTO:-0400
TZNAME:EDT
DTSTART:20230312T070000
END:DAYLIGHT
BEGIN:STANDARD
TZOFFSETFROM:-0400
TZOFFSETTO:-0500
TZNAME:EST
DTSTART:20231105T060000
END:STANDARD
BEGIN:DAYLIGHT
TZOFFSETFROM:-0500
TZOFFSETTO:-0400
TZNAME:EDT
DTSTART:20240310T070000
END:DAYLIGHT
BEGIN:STANDARD
TZOFFSETFROM:-0400
TZOFFSETTO:-0500
TZNAME:EST
DTSTART:20241103T060000
END:STANDARD
BEGIN:DAYLIGHT
TZOFFSETFROM:-0500
TZOFFSETTO:-0400
TZNAME:EDT
DTSTART:20250309T070000
END:DAYLIGHT
BEGIN:STANDARD
TZOFFSETFROM:-0400
TZOFFSETTO:-0500
TZNAME:EST
DTSTART:20251102T060000
END:STANDARD
END:VTIMEZONE
BEGIN:VEVENT
DTSTART;VALUE=DATE:20240727
DTEND;VALUE=DATE:20240729
DTSTAMP:20260424T145541
CREATED:20240221T230157Z
LAST-MODIFIED:20240221T230157Z
UID:3723-1722038400-1722211199@cbbqs.ca
SUMMARY:Didsbury Lions BBQ
DESCRIPTION:PUBLIC WELCOME\nCome walk around and learn about competition bbq and meet some teams. We are at the Didsbury AG Society grounds this year.  10 to 6 pm Saturday and Sunday
URL:https://cbbqs.ca/event/didsbury-lions-bbq/
LOCATION:Disbury Ag Society Grounds\, Township Rd 314\, Mountain View County\, Alberta\, T0M 0W0\, Canada
ORGANIZER;CN="Peter Braithwaite":MAILTO:petergbraithwaite@gmail.com
END:VEVENT
BEGIN:VEVENT
DTSTART;VALUE=DATE:20240629
DTEND;VALUE=DATE:20240701
DTSTAMP:20260424T145541
CREATED:20240221T225710Z
LAST-MODIFIED:20240221T225710Z
UID:3719-1719619200-1719791999@cbbqs.ca
SUMMARY:Country & Coals
DESCRIPTION:
URL:https://cbbqs.ca/event/country-coals/
LOCATION:Country Fest Dauphin\, Dauphin\, Manitoba\, Canada
ORGANIZER;CN="Rod Carberry":MAILTO:rodneycarberry@gmail.com
END:VEVENT
BEGIN:VEVENT
DTSTART;TZID=America/Regina:20240622T090000
DTEND;TZID=America/Regina:20240623T160000
DTSTAMP:20260424T145541
CREATED:20240416T223651Z
LAST-MODIFIED:20240416T223651Z
UID:4875-1719046800-1719158400@cbbqs.ca
SUMMARY:Smokey Skies BBQ Competition
DESCRIPTION:Backyard Competition – June 22 – 23\, 2024 \n4-Meat (Brisket\, Pork\, Pork Ribs and chicken)\nCBBQS Rules\nTrimming Demos on 22nd\nContact: Smokeyskiesbbqcomp@gmail.com \nTentative Itinerary as follows:\nSaturday June 22nd\n9:00 am: Meat inspection\, hand out turn in boxes\n(We will be having meat prep demonstrations throughout the day)\nTeams may begin prepping meat\n2:00 pm: Cooks meeting \nSunday June 23rd\nTeams are in full swing cooking\n12:00 pm: Chicken turn in\n12:30 pm: Ribs turn in\n1:00 pm: Pork turn in\n1:30 pm: Brisket turn in\n4:00 pm: Awards ceremony
URL:https://cbbqs.ca/event/smokey-skies-bbq-competition/
LOCATION:Kipling\, Kipling\, Saskatchewan\, Canada
ATTACH;FMTTYPE=image/jpeg:https://cbbqs.ca/wp-content/uploads/2024/04/Smokey-Skies.jpg
ORGANIZER;CN="Mathew Bonville":MAILTO:matbonville@gmail.com
END:VEVENT
BEGIN:VEVENT
DTSTART;VALUE=DATE:20240614
DTEND;VALUE=DATE:20240615
DTSTAMP:20260424T145541
CREATED:20240221T225352Z
LAST-MODIFIED:20240221T225352Z
UID:3716-1718323200-1718409599@cbbqs.ca
SUMMARY:Certified BBQ Judging & Table Captain Class
DESCRIPTION:To become a CBJ\, just attend one of the judging classes conducted by KCBS every year throughout the country. In a half-day’s time\, you’ll learn how to grade world-class chicken\, ribs\, pork and brisket – and taste them during the process! \nBy the time you’re finished\, you’ll be ready to sign up for the next competition in your area!
URL:https://cbbqs.ca/event/certified-bbq-judging-table-captain-class/
LOCATION:Ontario
ORGANIZER;CN="Jeanine Nazarchuck":MAILTO:jeanine.nazarchuck@real1884.ca
END:VEVENT
BEGIN:VEVENT
DTSTART;VALUE=DATE:20240608
DTEND;VALUE=DATE:20240610
DTSTAMP:20260424T145541
CREATED:20240221T225036Z
LAST-MODIFIED:20240221T225036Z
UID:3712-1717804800-1717977599@cbbqs.ca
SUMMARY:Small Town Smoke Down
DESCRIPTION:
URL:https://cbbqs.ca/event/small-town-smoke-down/
LOCATION:Bassano Community Hall\, 610 2 Ave\, Bassano\, Alberta\, T0J 0B0\, Canada
ORGANIZER;CN="Ryan Sanderson":MAILTO:bowteaminfo@gmail.com
END:VEVENT
BEGIN:VEVENT
DTSTART;VALUE=DATE:20240601
DTEND;VALUE=DATE:20240603
DTSTAMP:20260424T145541
CREATED:20240221T230645Z
LAST-MODIFIED:20240221T230645Z
UID:3727-1717200000-1717372799@cbbqs.ca
SUMMARY:Columbia Valley Smokeshow
DESCRIPTION:The Columbia Valley Smoke Show is a two-day BBQ festival with a sanctioned Kansas City Barbecue Society Master Series contest at its core. Pitmasters from across North America and local backyard warriors are invited to compete and can register here. Surrounding the competition is a family-friendly\, community focused\, food celebration… Barbecue\, Brews & Mountain Views!
URL:https://cbbqs.ca/event/columbia-valley-smokeshow/
LOCATION:Invemere Vistor Center\, 651 BC-93 #95\, Invermere\,\, BC\, V0A 1K0\, Canada
ORGANIZER;CN="Lions Club":MAILTO:lwdlions@gmail.com
END:VEVENT
BEGIN:VEVENT
DTSTART;VALUE=DATE:20240525
DTEND;VALUE=DATE:20240527
DTSTAMP:20260424T145541
CREATED:20240221T224113Z
LAST-MODIFIED:20240221T224113Z
UID:3705-1716595200-1716767999@cbbqs.ca
SUMMARY:Embers & Ice Competition
DESCRIPTION:Embers & Ice Pitmaster Championship
URL:https://cbbqs.ca/event/embers-ice-competition/
LOCATION:Leduc West Antique Society\, 49541 RR 260\, Calmar\, Alberta\, T0C 0V0\, Canada
ORGANIZER;CN="Nelson Dos Santos":MAILTO:dossantos780@telus.net
END:VEVENT
BEGIN:VEVENT
DTSTART;VALUE=DATE:20240525
DTEND;VALUE=DATE:20240527
DTSTAMP:20260424T145541
CREATED:20240221T161617Z
LAST-MODIFIED:20240614T215943Z
UID:3392-1716595200-1716767999@cbbqs.ca
SUMMARY:Jack 9 Memorial
DESCRIPTION:Competition – May 25-26\, 2024 \nKCBS Master Rules \nThe JACK9 Memorial BBQ Competition was created by the BBQ community in honour of our friend and BBQ Pitmaster\, Michael Chiarotto. Michael loved BBQ’ing and competing in BBQ competitions. \nThis competition is a great opportunity to bond around common interests while also determining who among us are the best BBQers. \nWith a laid-back atmosphere\, laughter\, and a chance to sample some of the best BBQ around\, this event is sure to be a hit with all who attend.
URL:https://cbbqs.ca/event/jack-9-memorial/
LOCATION:Smooth Smokin’
END:VEVENT
BEGIN:VEVENT
DTSTART;VALUE=DATE:20240426
DTEND;VALUE=DATE:20240427
DTSTAMP:20260424T145541
CREATED:20250227T182152Z
LAST-MODIFIED:20250806T193719Z
UID:5345-1714089600-1714175999@cbbqs.ca
SUMMARY:2025 Certified BBQ Judging & Table Captain Class - Leduc\, Alberta\, Canada - **CANCELLED**
DESCRIPTION:To become a CBJ\, just attend one of the judging classes conducted by KCBS every year throughout the country. In a half-day’s time\, you’ll learn how to grade world-class chicken\, ribs\, pork and brisket – and taste them during the process! \nBy the time you’re finished\, you’ll be ready to sign up for the next competition in your area!
URL:https://cbbqs.ca/event/2025-certified-bbq-judging-table-captain-class-leduc-ab/
LOCATION:Leduc West Antique Society\, 49541 RR 260\, Calmar\, Alberta\, T0C 0V0\, Canada
ORGANIZER;CN="Danielle Mohr":MAILTO:embersicepitmasterchallenge@gmail.com
END:VEVENT
BEGIN:VEVENT
DTSTART;TZID=America/Regina:20240421T000000
DTEND;TZID=America/Regina:20240421T000000
DTSTAMP:20260424T145541
CREATED:20240221T223438Z
LAST-MODIFIED:20240221T224533Z
UID:3701-1713657600-1713657600@cbbqs.ca
SUMMARY:Certified Judging & Table Captain Class - KCBS
DESCRIPTION:To become a CBJ\, just attend one of the judging classes conducted by KCBS every year throughout the country. In a half-day’s time\, you’ll learn how to grade world-class chicken\, ribs\, pork and brisket – and taste them during the process! \nBy the time you’re finished\, you’ll be ready to sign up for the next competition in your area!
URL:https://cbbqs.ca/event/certified-judging-table-captain-class-kcbs/
LOCATION:Calgary Shrine Center\, 5225 101 St N\, Calgary\, Alberta\, Canada
ORGANIZER;CN="Cathy Roczkowsky":MAILTO:bowgeneralinfo@gmail.com
END:VEVENT
BEGIN:VEVENT
DTSTART;VALUE=DATE:20240413
DTEND;VALUE=DATE:20240414
DTSTAMP:20260424T145541
CREATED:20240221T223104Z
LAST-MODIFIED:20240221T224504Z
UID:3698-1712966400-1713052799@cbbqs.ca
SUMMARY:Certified BBQ Judging Class - KCBS
DESCRIPTION:To become a CBJ\, just attend one of the judging classes conducted by KCBS every year throughout the country. In a half-day’s time\, you’ll learn how to grade world-class chicken\, ribs\, pork and brisket – and taste them during the process! \nBy the time you’re finished\, you’ll be ready to sign up for the next competition in your area!
URL:https://cbbqs.ca/event/certified-bbq-judging-class-kcbs/
LOCATION:Windsor Sportsmen Club\, 2401 Dougall Ave.\, Windsor\, Ontario\, N8X 1T3
ORGANIZER;CN="Derek Sylvestre":MAILTO:aslyguy33@hotmail.com
END:VEVENT
END:VCALENDAR