BEGIN:VCALENDAR
VERSION:2.0
PRODID:-//Canadian BBQ Society - ECPv6.15.11//NONSGML v1.0//EN
CALSCALE:GREGORIAN
METHOD:PUBLISH
X-WR-CALNAME:Canadian BBQ Society
X-ORIGINAL-URL:https://cbbqs.ca
X-WR-CALDESC:Events for Canadian BBQ Society
REFRESH-INTERVAL;VALUE=DURATION:PT1H
X-Robots-Tag:noindex
X-PUBLISHED-TTL:PT1H
BEGIN:VTIMEZONE
TZID:America/Edmonton
BEGIN:DAYLIGHT
TZOFFSETFROM:-0700
TZOFFSETTO:-0600
TZNAME:MDT
DTSTART:20250309T090000
END:DAYLIGHT
BEGIN:STANDARD
TZOFFSETFROM:-0600
TZOFFSETTO:-0700
TZNAME:MST
DTSTART:20251102T080000
END:STANDARD
BEGIN:DAYLIGHT
TZOFFSETFROM:-0700
TZOFFSETTO:-0600
TZNAME:MDT
DTSTART:20260308T090000
END:DAYLIGHT
BEGIN:STANDARD
TZOFFSETFROM:-0600
TZOFFSETTO:-0700
TZNAME:MST
DTSTART:20261101T080000
END:STANDARD
BEGIN:DAYLIGHT
TZOFFSETFROM:-0700
TZOFFSETTO:-0600
TZNAME:MDT
DTSTART:20270314T090000
END:DAYLIGHT
BEGIN:STANDARD
TZOFFSETFROM:-0600
TZOFFSETTO:-0700
TZNAME:MST
DTSTART:20271107T080000
END:STANDARD
END:VTIMEZONE
BEGIN:VTIMEZONE
TZID:America/Toronto
BEGIN:DAYLIGHT
TZOFFSETFROM:-0500
TZOFFSETTO:-0400
TZNAME:EDT
DTSTART:20250309T070000
END:DAYLIGHT
BEGIN:STANDARD
TZOFFSETFROM:-0400
TZOFFSETTO:-0500
TZNAME:EST
DTSTART:20251102T060000
END:STANDARD
BEGIN:DAYLIGHT
TZOFFSETFROM:-0500
TZOFFSETTO:-0400
TZNAME:EDT
DTSTART:20260308T070000
END:DAYLIGHT
BEGIN:STANDARD
TZOFFSETFROM:-0400
TZOFFSETTO:-0500
TZNAME:EST
DTSTART:20261101T060000
END:STANDARD
BEGIN:DAYLIGHT
TZOFFSETFROM:-0500
TZOFFSETTO:-0400
TZNAME:EDT
DTSTART:20270314T070000
END:DAYLIGHT
BEGIN:STANDARD
TZOFFSETFROM:-0400
TZOFFSETTO:-0500
TZNAME:EST
DTSTART:20271107T060000
END:STANDARD
END:VTIMEZONE
BEGIN:VTIMEZONE
TZID:America/Regina
BEGIN:STANDARD
TZOFFSETFROM:-0600
TZOFFSETTO:-0600
TZNAME:CST
DTSTART:20250101T000000
END:STANDARD
END:VTIMEZONE
BEGIN:VEVENT
DTSTART;VALUE=DATE:20260724
DTEND;VALUE=DATE:20260726
DTSTAMP:20260424T095458
CREATED:20260203T153722Z
LAST-MODIFIED:20260203T154209Z
UID:5677-1784851200-1785023999@cbbqs.ca
SUMMARY:2026 The Didsbury Double (Didsbury Lions BBQ) (Day 1)
DESCRIPTION:
URL:https://cbbqs.ca/event/2026-the-didsbury-double-didsbury-lions-bbq-day-1/
LOCATION:Disbury Ag Society Grounds\, Township Rd 314\, Mountain View County\, Alberta\, T0M 0W0\, Canada
ATTACH;FMTTYPE=image/jpeg:https://cbbqs.ca/wp-content/uploads/2025/02/480342522_946955700950977_7001040536190971668_n.jpg
ORGANIZER;CN="Peter Braithwaite":MAILTO:petergbraithwaite@gmail.com
END:VEVENT
BEGIN:VEVENT
DTSTART;VALUE=DATE:20260725
DTEND;VALUE=DATE:20260727
DTSTAMP:20260424T095458
CREATED:20260203T153820Z
LAST-MODIFIED:20260203T154216Z
UID:5679-1784937600-1785110399@cbbqs.ca
SUMMARY:2026 The Didsbury Double (Didsbury Lions BBQ) (Day 2)
DESCRIPTION:
URL:https://cbbqs.ca/event/2026-the-didsbury-double-didsbury-lions-bbq-day-2/
LOCATION:Disbury Ag Society Grounds\, Township Rd 314\, Mountain View County\, Alberta\, T0M 0W0\, Canada
ATTACH;FMTTYPE=image/jpeg:https://cbbqs.ca/wp-content/uploads/2025/02/480342522_946955700950977_7001040536190971668_n.jpg
ORGANIZER;CN="Peter Braithwaite":MAILTO:petergbraithwaite@gmail.com
END:VEVENT
BEGIN:VEVENT
DTSTART;VALUE=DATE:20260801
DTEND;VALUE=DATE:20260803
DTSTAMP:20260424T095458
CREATED:20260203T154128Z
LAST-MODIFIED:20260203T154128Z
UID:5681-1785542400-1785715199@cbbqs.ca
SUMMARY:2026 Camper's Corner BBQ Cookoff
DESCRIPTION:
URL:https://cbbqs.ca/event/2026-campers-corner-bbq-cookoff/
LOCATION:Camper’s Corner RV Campround\, 136 Cromarty Drive\, London\, Ontario\, N6M 1H6\, Canada
ORGANIZER;CN="Sabrina Maracle":MAILTO:camperscornercookoff@gmail.com
END:VEVENT
BEGIN:VEVENT
DTSTART;VALUE=DATE:20260802
DTEND;VALUE=DATE:20260803
DTSTAMP:20260424T095458
CREATED:20260203T154304Z
LAST-MODIFIED:20260203T154304Z
UID:5686-1785628800-1785715199@cbbqs.ca
SUMMARY:2026 Camper's Corner BBQ Cookoff - One Meat Ribs
DESCRIPTION:
URL:https://cbbqs.ca/event/2026-campers-corner-bbq-cookoff-one-meat-ribs/
LOCATION:Camper’s Corner RV Campround\, 136 Cromarty Drive\, London\, Ontario\, N6M 1H6\, Canada
ORGANIZER;CN="Sabrina Maracle":MAILTO:camperscornercookoff@gmail.com
END:VEVENT
BEGIN:VEVENT
DTSTART;VALUE=DATE:20260904
DTEND;VALUE=DATE:20260907
DTSTAMP:20260424T095458
CREATED:20260203T154435Z
LAST-MODIFIED:20260203T154435Z
UID:5688-1788480000-1788739199@cbbqs.ca
SUMMARY:2026 Barbeque On The Bow Festival
DESCRIPTION:
URL:https://cbbqs.ca/event/2026-barbeque-on-the-bow-festival/
LOCATION:Calgary Shrine Stables\, 5151 101 St NW\, Calgary\, Alberta\, T3L 1S4\, Canada
ORGANIZER;CN="Bernie Kenny":MAILTO:smokinboxbbq@gmail.com
END:VEVENT
BEGIN:VEVENT
DTSTART;VALUE=DATE:20260911
DTEND;VALUE=DATE:20260914
DTSTAMP:20260424T095458
CREATED:20260203T154932Z
LAST-MODIFIED:20260203T155423Z
UID:5690-1789084800-1789343999@cbbqs.ca
SUMMARY:2026 Summer Grillin' BBQ Festival
DESCRIPTION:
URL:https://cbbqs.ca/event/2026-summer-grillin-bbq-festival/
LOCATION:Leduc Lions Campground & RV Park\, 4314 Rollyview Rd\, Leduc\, Alberta\, T9E 4W7\, Canada
ORGANIZER;CN="Nick Palsenbarg":MAILTO:albertabbqfestival@gmail.com
END:VEVENT
BEGIN:VEVENT
DTSTART;VALUE=DATE:20260925
DTEND;VALUE=DATE:20260928
DTSTAMP:20260424T095458
CREATED:20260203T155239Z
LAST-MODIFIED:20260203T155239Z
UID:5692-1790294400-1790553599@cbbqs.ca
SUMMARY:2026 Smoke Ring
DESCRIPTION:
URL:https://cbbqs.ca/event/2026-smoke-ring/
LOCATION:Spencerville Agricultural Society\, 22 Ryan St.\, Spencerville\, Ontario\, K0E 1X0\, Canada
ORGANIZER;CN="Tim Vander Meer":MAILTO:rubsweatandbeers@gmail.com
END:VEVENT
BEGIN:VEVENT
DTSTART;VALUE=DATE:20260926
DTEND;VALUE=DATE:20260927
DTSTAMP:20260424T095458
CREATED:20260203T155515Z
LAST-MODIFIED:20260203T155515Z
UID:5695-1790380800-1790467199@cbbqs.ca
SUMMARY:2026 Smoke Ring - One Meat Ribs
DESCRIPTION:
URL:https://cbbqs.ca/event/2026-smoke-ring-one-meat-ribs/
LOCATION:Spencerville Agricultural Society\, 22 Ryan St.\, Spencerville\, Ontario\, K0E 1X0\, Canada
ORGANIZER;CN="Tim Vander Meer":MAILTO:rubsweatandbeers@gmail.com
END:VEVENT
END:VCALENDAR