BEGIN:VCALENDAR
VERSION:2.0
PRODID:-//Canadian BBQ Society - ECPv6.15.11//NONSGML v1.0//EN
CALSCALE:GREGORIAN
METHOD:PUBLISH
X-WR-CALNAME:Canadian BBQ Society
X-ORIGINAL-URL:https://cbbqs.ca
X-WR-CALDESC:Events for Canadian BBQ Society
REFRESH-INTERVAL;VALUE=DURATION:PT1H
X-Robots-Tag:noindex
X-PUBLISHED-TTL:PT1H
BEGIN:VTIMEZONE
TZID:America/Edmonton
BEGIN:DAYLIGHT
TZOFFSETFROM:-0700
TZOFFSETTO:-0600
TZNAME:MDT
DTSTART:20250309T090000
END:DAYLIGHT
BEGIN:STANDARD
TZOFFSETFROM:-0600
TZOFFSETTO:-0700
TZNAME:MST
DTSTART:20251102T080000
END:STANDARD
BEGIN:DAYLIGHT
TZOFFSETFROM:-0700
TZOFFSETTO:-0600
TZNAME:MDT
DTSTART:20260308T090000
END:DAYLIGHT
BEGIN:STANDARD
TZOFFSETFROM:-0600
TZOFFSETTO:-0700
TZNAME:MST
DTSTART:20261101T080000
END:STANDARD
BEGIN:DAYLIGHT
TZOFFSETFROM:-0700
TZOFFSETTO:-0600
TZNAME:MDT
DTSTART:20270314T090000
END:DAYLIGHT
BEGIN:STANDARD
TZOFFSETFROM:-0600
TZOFFSETTO:-0700
TZNAME:MST
DTSTART:20271107T080000
END:STANDARD
END:VTIMEZONE
BEGIN:VTIMEZONE
TZID:America/Regina
BEGIN:STANDARD
TZOFFSETFROM:-0600
TZOFFSETTO:-0600
TZNAME:CST
DTSTART:20240101T000000
END:STANDARD
END:VTIMEZONE
BEGIN:VTIMEZONE
TZID:America/Toronto
BEGIN:DAYLIGHT
TZOFFSETFROM:-0500
TZOFFSETTO:-0400
TZNAME:EDT
DTSTART:20240310T070000
END:DAYLIGHT
BEGIN:STANDARD
TZOFFSETFROM:-0400
TZOFFSETTO:-0500
TZNAME:EST
DTSTART:20241103T060000
END:STANDARD
BEGIN:DAYLIGHT
TZOFFSETFROM:-0500
TZOFFSETTO:-0400
TZNAME:EDT
DTSTART:20250309T070000
END:DAYLIGHT
BEGIN:STANDARD
TZOFFSETFROM:-0400
TZOFFSETTO:-0500
TZNAME:EST
DTSTART:20251102T060000
END:STANDARD
BEGIN:DAYLIGHT
TZOFFSETFROM:-0500
TZOFFSETTO:-0400
TZNAME:EDT
DTSTART:20260308T070000
END:DAYLIGHT
BEGIN:STANDARD
TZOFFSETFROM:-0400
TZOFFSETTO:-0500
TZNAME:EST
DTSTART:20261101T060000
END:STANDARD
BEGIN:DAYLIGHT
TZOFFSETFROM:-0500
TZOFFSETTO:-0400
TZNAME:EDT
DTSTART:20270314T070000
END:DAYLIGHT
BEGIN:STANDARD
TZOFFSETFROM:-0400
TZOFFSETTO:-0500
TZNAME:EST
DTSTART:20271107T060000
END:STANDARD
END:VTIMEZONE
BEGIN:VTIMEZONE
TZID:America/Halifax
BEGIN:DAYLIGHT
TZOFFSETFROM:-0400
TZOFFSETTO:-0300
TZNAME:ADT
DTSTART:20250309T060000
END:DAYLIGHT
BEGIN:STANDARD
TZOFFSETFROM:-0300
TZOFFSETTO:-0400
TZNAME:AST
DTSTART:20251102T050000
END:STANDARD
BEGIN:DAYLIGHT
TZOFFSETFROM:-0400
TZOFFSETTO:-0300
TZNAME:ADT
DTSTART:20260308T060000
END:DAYLIGHT
BEGIN:STANDARD
TZOFFSETFROM:-0300
TZOFFSETTO:-0400
TZNAME:AST
DTSTART:20261101T050000
END:STANDARD
BEGIN:DAYLIGHT
TZOFFSETFROM:-0400
TZOFFSETTO:-0300
TZNAME:ADT
DTSTART:20270314T060000
END:DAYLIGHT
BEGIN:STANDARD
TZOFFSETFROM:-0300
TZOFFSETTO:-0400
TZNAME:AST
DTSTART:20271107T050000
END:STANDARD
END:VTIMEZONE
BEGIN:VTIMEZONE
TZID:UTC
BEGIN:STANDARD
TZOFFSETFROM:+0000
TZOFFSETTO:+0000
TZNAME:UTC
DTSTART:20250101T000000
END:STANDARD
END:VTIMEZONE
BEGIN:VTIMEZONE
TZID:America/St_Johns
BEGIN:DAYLIGHT
TZOFFSETFROM:-0330
TZOFFSETTO:-0230
TZNAME:NDT
DTSTART:20240310T053000
END:DAYLIGHT
BEGIN:STANDARD
TZOFFSETFROM:-0230
TZOFFSETTO:-0330
TZNAME:NST
DTSTART:20241103T043000
END:STANDARD
BEGIN:DAYLIGHT
TZOFFSETFROM:-0330
TZOFFSETTO:-0230
TZNAME:NDT
DTSTART:20250309T053000
END:DAYLIGHT
BEGIN:STANDARD
TZOFFSETFROM:-0230
TZOFFSETTO:-0330
TZNAME:NST
DTSTART:20251102T043000
END:STANDARD
BEGIN:DAYLIGHT
TZOFFSETFROM:-0330
TZOFFSETTO:-0230
TZNAME:NDT
DTSTART:20260308T053000
END:DAYLIGHT
BEGIN:STANDARD
TZOFFSETFROM:-0230
TZOFFSETTO:-0330
TZNAME:NST
DTSTART:20261101T043000
END:STANDARD
END:VTIMEZONE
BEGIN:VEVENT
DTSTART;VALUE=DATE:20260724
DTEND;VALUE=DATE:20260726
DTSTAMP:20260424T204557
CREATED:20260203T153722Z
LAST-MODIFIED:20260203T154209Z
UID:5677-1784851200-1785023999@cbbqs.ca
SUMMARY:2026 The Didsbury Double (Didsbury Lions BBQ) (Day 1)
DESCRIPTION:
URL:https://cbbqs.ca/event/2026-the-didsbury-double-didsbury-lions-bbq-day-1/
LOCATION:Disbury Ag Society Grounds\, Township Rd 314\, Mountain View County\, Alberta\, T0M 0W0\, Canada
ATTACH;FMTTYPE=image/jpeg:https://cbbqs.ca/wp-content/uploads/2025/02/480342522_946955700950977_7001040536190971668_n.jpg
ORGANIZER;CN="Peter Braithwaite":MAILTO:petergbraithwaite@gmail.com
END:VEVENT
BEGIN:VEVENT
DTSTART;VALUE=DATE:20260703
DTEND;VALUE=DATE:20260705
DTSTAMP:20260424T204557
CREATED:20260203T153430Z
LAST-MODIFIED:20260203T153430Z
UID:5673-1783036800-1783209599@cbbqs.ca
SUMMARY:2026 Alberta BBQ Festival
DESCRIPTION:
URL:https://cbbqs.ca/event/2026-alberta-bbq-festival/
LOCATION:The BBQ Shoppe\, 104-6527 Sparrow Drive\, Leduc\, Alberta\, T9E 7C7\, Canada
ORGANIZER;CN="Nick Palsenbarg":MAILTO:albertabbqfestival@gmail.com
END:VEVENT
BEGIN:VEVENT
DTSTART;VALUE=DATE:20260630
DTEND;VALUE=DATE:20260702
DTSTAMP:20260424T204557
CREATED:20260203T153133Z
LAST-MODIFIED:20260203T153133Z
UID:5671-1782777600-1782950399@cbbqs.ca
SUMMARY:2026 Blue Bombers BBQ Pitmaster Showdown
DESCRIPTION:
URL:https://cbbqs.ca/event/2026-blue-bombers-bbq-pitmaster-showdown/
LOCATION:Princess Auto Stadium\, 315 Chancellor Matheson Road\, Winnipeg\, Saskatchewan\, R3T 1Z2\, Canada
ORGANIZER;CN="JT Herr":MAILTO:jtherr@bluebombers.com
END:VEVENT
BEGIN:VEVENT
DTSTART;VALUE=DATE:20260619
DTEND;VALUE=DATE:20260622
DTSTAMP:20260424T204557
CREATED:20260203T152832Z
LAST-MODIFIED:20260203T152832Z
UID:5665-1781827200-1782086399@cbbqs.ca
SUMMARY:2026 New Lowell True North BBQ Bash
DESCRIPTION:
URL:https://cbbqs.ca/event/2026-new-lowell-true-north-bbq-bash/
LOCATION:Royal Canadian Legion Branch 516\, 5357 County Rd 9\, New Lowell\, Ontario\, L0M 1N0\, Canada
ORGANIZER;CN="Jake Forsyth":MAILTO:info@smokeshowentertainment.ca
END:VEVENT
BEGIN:VEVENT
DTSTART;VALUE=DATE:20260619
DTEND;VALUE=DATE:20260621
DTSTAMP:20260424T204557
CREATED:20260203T153004Z
LAST-MODIFIED:20260203T153004Z
UID:5669-1781827200-1781999999@cbbqs.ca
SUMMARY:2026 Smokey Skies BBQ Competition
DESCRIPTION:Competition – June 19 – 202\, 2026 \n 
URL:https://cbbqs.ca/event/2026-smokey-skies-bbq-competition/
LOCATION:ODR Grounds\, 701 1st st.\, Kipling\, Saskatchewan\, S0G 2S0\, Canada
ATTACH;FMTTYPE=image/jpeg:https://cbbqs.ca/wp-content/uploads/2025/02/480970698_122221033970197815_3400723279965973434_n.jpg
ORGANIZER;CN="Mathew Bonville":MAILTO:matbonville@gmail.com
END:VEVENT
BEGIN:VEVENT
DTSTART;VALUE=DATE:20260606
DTEND;VALUE=DATE:20260608
DTSTAMP:20260424T204557
CREATED:20260203T152436Z
LAST-MODIFIED:20260203T152436Z
UID:5662-1780704000-1780876799@cbbqs.ca
SUMMARY:2026 Throttled Up BBQ Throwdown
DESCRIPTION:
URL:https://cbbqs.ca/event/2026-throttled-up-bbq-throwdown/
LOCATION:Warmth By Design\, 16 Hub Center Dr.\, Upper Onslow\, Nova Scotia\, B6L 0E2\, Canada
ATTACH;FMTTYPE=image/webp:https://cbbqs.ca/wp-content/uploads/2024/06/d4c131_40737740fdfb45fb9d3528ac7de3b245mv2.webp
ORGANIZER;CN="Trina Langille":MAILTO:info@warmthbydesign.ca
END:VEVENT
BEGIN:VEVENT
DTSTART;VALUE=DATE:20260530
DTEND;VALUE=DATE:20260601
DTSTAMP:20260424T204557
CREATED:20260203T152209Z
LAST-MODIFIED:20260203T152209Z
UID:5660-1780099200-1780271999@cbbqs.ca
SUMMARY:2026 Small Town Smoke Down
DESCRIPTION:Set in a beautiful small town in Alberta\, the Small Town Smoke Down draws great BBQ talent from all over Canada and even from the US.
URL:https://cbbqs.ca/event/2026-small-town-smoke-down/
LOCATION:Bassano Community Hall\, 610 2 Ave\, Bassano\, Alberta\, T0J 0B0\, Canada
ATTACH;FMTTYPE=image/jpeg:https://cbbqs.ca/wp-content/uploads/2025/02/429946226_882530597003492_6193542596547342297_n.jpg
ORGANIZER;CN="Bernie Kenny":MAILTO:smokinboxbbq@gmail.com
END:VEVENT
BEGIN:VEVENT
DTSTART;VALUE=DATE:20260523
DTEND;VALUE=DATE:20260525
DTSTAMP:20260424T204557
CREATED:20260203T152028Z
LAST-MODIFIED:20260203T152028Z
UID:5658-1779494400-1779667199@cbbqs.ca
SUMMARY:2026 Embers & Ice Competition
DESCRIPTION:Embers & Ice Pitmaster Championship May 23rd and 24th\, 2026 in Calmar\, AB
URL:https://cbbqs.ca/event/2026-embers-ice-competition/
LOCATION:Leduc West Antique Society\, 49541 RR 260\, Calmar\, Alberta\, T0C 0V0\, Canada
ATTACH;FMTTYPE=image/jpeg:https://cbbqs.ca/wp-content/uploads/2025/02/474592312_998001302378408_4213865195961845090_n.jpg
ORGANIZER;CN="Nelson Dos Santos":MAILTO:dossantos780@telus.net
END:VEVENT
BEGIN:VEVENT
DTSTART;VALUE=DATE:20260523
DTEND;VALUE=DATE:20260525
DTSTAMP:20260424T204557
CREATED:20260203T151752Z
LAST-MODIFIED:20260203T151752Z
UID:5656-1779494400-1779667199@cbbqs.ca
SUMMARY:2026 Jack 9 Memorial
DESCRIPTION:Competition – May 23-24\, 2026 \nKCBS Master Rules \nThe JACK9 Memorial BBQ Competition was created by the BBQ community in honour of our friend and BBQ Pitmaster\, Michael Chiarotto. Michael loved BBQ’ing and competing in BBQ competitions. \nThis competition is a great opportunity to bond around common interests while also determining who among us are the best BBQers. \nWith a laid-back atmosphere\, laughter\, and a chance to sample some of the best BBQ around\, this event is sure to be a hit with all who attend.
URL:https://cbbqs.ca/event/2026-jack-9-memorial/
LOCATION:Ramblin’ Road Brewery Farm\, 2970 Swimming Pool Rd.\, La Sallette\, Ontario\, N0E 1H0\, Canada
ORGANIZER;CN="David Hunnam":MAILTO:dhunnam@gmail.com
END:VEVENT
BEGIN:VEVENT
DTSTART;VALUE=DATE:20260509
DTEND;VALUE=DATE:20260511
DTSTAMP:20260424T204557
CREATED:20260203T151047Z
LAST-MODIFIED:20260203T151223Z
UID:5652-1778284800-1778457599@cbbqs.ca
SUMMARY:2026 Smoke On The Seaway
DESCRIPTION:
URL:https://cbbqs.ca/event/2026-smoke-on-the-seaway/
LOCATION:Cornwall Aquatic Centre\, 100 Water Street\, Cornwall\, Ontario\, K6H 6G4\, Canada
ORGANIZER;CN="Mathieu Drouin":MAILTO:bbqwithdrew@hotmail.com
END:VEVENT
BEGIN:VEVENT
DTSTART;VALUE=DATE:20260509
DTEND;VALUE=DATE:20260510
DTSTAMP:20260424T204557
CREATED:20260203T151343Z
LAST-MODIFIED:20260203T151343Z
UID:5654-1778284800-1778371199@cbbqs.ca
SUMMARY:2026 Smoke On The Seaway - One Meat Ribs
DESCRIPTION:
URL:https://cbbqs.ca/event/2026-smoke-on-the-seaway-one-meat-ribs/
LOCATION:Cornwall Aquatic Centre\, 100 Water Street\, Cornwall\, Ontario\, K6H 6G4\, Canada
ORGANIZER;CN="Mathieu Drouin":MAILTO:bbqwithdrew@hotmail.com
END:VEVENT
BEGIN:VEVENT
DTSTART;TZID=America/Regina:20251010T080000
DTEND;TZID=America/Regina:20251012T170000
DTSTAMP:20260424T204557
CREATED:20250806T201952Z
LAST-MODIFIED:20250806T201952Z
UID:5557-1760083200-1760288400@cbbqs.ca
SUMMARY:2025 Bean Town BBQ Cookoff
DESCRIPTION:
URL:https://cbbqs.ca/event/2025-bean-town-bbq-cookoff/
LOCATION:Bow Island Centennial Park & Campground\, 1121 Centre St\, Bow Island\, Alberta\, T0K 0G0\, Canada
ORGANIZER;CN="Bernie Kenny":MAILTO:smokinboxbbq@gmail.com
END:VEVENT
BEGIN:VEVENT
DTSTART;TZID=America/Regina:20250927T080000
DTEND;TZID=America/Regina:20250928T170000
DTSTAMP:20260424T204557
CREATED:20250806T201719Z
LAST-MODIFIED:20250806T201719Z
UID:5553-1758960000-1759078800@cbbqs.ca
SUMMARY:2025 Smoke in the Valley
DESCRIPTION:
URL:https://cbbqs.ca/event/2025-smoke-in-the-valley/
LOCATION:Rainbow Valley Campground\, 13204 Rainbow Valley Road\, Edmonton\, Alberta\, T6R 2V4\, Canada
END:VEVENT
BEGIN:VEVENT
DTSTART;TZID=America/Regina:20250927T080000
DTEND;TZID=America/Regina:20250927T170000
DTSTAMP:20260424T204557
CREATED:20250806T201231Z
LAST-MODIFIED:20250806T201310Z
UID:5548-1758960000-1758992400@cbbqs.ca
SUMMARY:2025 Certified Barbeque Judging & Table Captain Class - Spencerville\, Ontario Canada
DESCRIPTION:
URL:https://cbbqs.ca/event/2025-certified-barbeque-judging-table-captain-class-spencerville-ontario-canada/
LOCATION:Spencerville Fair\, 22 Ryan St.\, Spencerville\, Ontario\, K0E 1X0\, Canada
ORGANIZER;CN="Tim Vander Meer":MAILTO:rubsweatandbeers@gmail.com
END:VEVENT
BEGIN:VEVENT
DTSTART;VALUE=DATE:20250927
DTEND;VALUE=DATE:20250929
DTSTAMP:20260424T204557
CREATED:20250227T200000Z
LAST-MODIFIED:20250227T200000Z
UID:5398-1758931200-1759103999@cbbqs.ca
SUMMARY:2025 Spencerville Smoke Ring
DESCRIPTION:
URL:https://cbbqs.ca/event/2025-spencerville-smoke-ring/
LOCATION:Spencerville Fair\, 22 Ryan St.\, Spencerville\, Ontario\, K0E 1X0\, Canada
ORGANIZER;CN="Tim Vander Meer":MAILTO:rubsweatandbeers@gmail.com
END:VEVENT
BEGIN:VEVENT
DTSTART;TZID=America/Regina:20250912T080000
DTEND;TZID=America/Regina:20250914T170000
DTSTAMP:20260424T204557
CREATED:20250806T201015Z
LAST-MODIFIED:20250806T201015Z
UID:5546-1757664000-1757869200@cbbqs.ca
SUMMARY:2025 Summer Grillin' BBQ Festival
DESCRIPTION:
URL:https://cbbqs.ca/event/2025-summer-grillin-bbq-festival/
LOCATION:Leduc Lions Campground & RV Park\, 4314 Rollyview Rd\, Leduc\, Alberta\, T9E 4W7\, Canada
ORGANIZER;CN="Shane Johnstone":MAILTO:johnstonedevelopments@gmail.com
END:VEVENT
BEGIN:VEVENT
DTSTART;TZID=America/Regina:20250906T080000
DTEND;TZID=America/Regina:20250907T170000
DTSTAMP:20260424T204557
CREATED:20250806T200630Z
LAST-MODIFIED:20250806T200710Z
UID:5539-1757145600-1757264400@cbbqs.ca
SUMMARY:2025 Big Smoke Bonnyville
DESCRIPTION:
URL:https://cbbqs.ca/event/2025-big-smoke-bonnyville/
LOCATION:Peter Kushnir Ball Park\, 5709 50 Ave Unit 103\, Bonnyville\, Alberta\, T9N 2L1\, Canada
ORGANIZER;CN="Kory Stanley":MAILTO:Bigsmokebonnyville@mail.com
END:VEVENT
BEGIN:VEVENT
DTSTART;VALUE=DATE:20250830
DTEND;VALUE=DATE:20250902
DTSTAMP:20260424T204557
CREATED:20250227T195434Z
LAST-MODIFIED:20250227T195511Z
UID:5395-1756512000-1756771199@cbbqs.ca
SUMMARY:2025 Barbeque On The Bow Festival
DESCRIPTION:
URL:https://cbbqs.ca/event/2025-barbeque-on-the-bow-festival/
LOCATION:Calgary Shrine Stables\, 5151 101 St NW\, Calgary\, Alberta\, T3L 1S4\, Canada
ORGANIZER;CN="Bernie Kenny":MAILTO:smokinboxbbq@gmail.com
END:VEVENT
BEGIN:VEVENT
DTSTART;TZID=America/Toronto:20250823T070000
DTEND;TZID=America/Toronto:20250824T150000
DTSTAMP:20260424T204557
CREATED:20250227T194807Z
LAST-MODIFIED:20250227T194807Z
UID:5386-1755932400-1756047600@cbbqs.ca
SUMMARY:2025 Rock N Hogs BBQ Battle
DESCRIPTION:A KCBS sanctioned bbq competition SUNDAY AND with a kids bbq battle\, judges certification class\, amateur backyard bbq competition people’s choice voting for Saturday.\nThese teams are professionals who eat live and breathe bbq. One team will QUALIFY to represent at the superbowl of bbq next year!\nMake sure to swing by the pits and see what you can learn
URL:https://cbbqs.ca/event/2025-rock-n-hogs-bbq-battle/
LOCATION:Rocky’s Harley-Davidson\, 900 Wilton Grove Road\, London\, Ontario\, N6N 1E1\, Canada
ATTACH;FMTTYPE=image/jpeg:https://cbbqs.ca/wp-content/uploads/2025/02/475890099_636041768943501_6366548760013757801_n.jpg
ORGANIZER;CN="Steve Boyle":MAILTO:meatkandy@gmail.com
END:VEVENT
BEGIN:VEVENT
DTSTART;TZID=America/Regina:20250808T080000
DTEND;TZID=America/Regina:20250810T170000
DTSTAMP:20260424T204557
CREATED:20250806T200151Z
LAST-MODIFIED:20250806T200151Z
UID:5533-1754640000-1754845200@cbbqs.ca
SUMMARY:2025 Smoke in the Orchard\, Powered by Sunpoke
DESCRIPTION:
URL:https://cbbqs.ca/event/2025-smoke-in-the-orchard-powered-by-sunpoke/
LOCATION:River View Orchard\, 251 NB Route 616\, Keswick\, New Brunswick\, E6L 1V1\, Canada
ORGANIZER;CN="Marshall Doucette":MAILTO:info@smokeintheorchard.ca
END:VEVENT
BEGIN:VEVENT
DTSTART;TZID=America/Regina:20250801T080000
DTEND;TZID=America/Regina:20250802T170000
DTSTAMP:20260424T204557
CREATED:20250806T195817Z
LAST-MODIFIED:20250806T195817Z
UID:5527-1754035200-1754154000@cbbqs.ca
SUMMARY:2025 La Classique What the Pork?
DESCRIPTION:
URL:https://cbbqs.ca/event/2025-la-classique-what-the-pork/
LOCATION:Centre des Loisirs\, 113 Rue Saint-Charles\, Sainte-Perpetue\, Quebec\, JOC 1R0\, Canada
ORGANIZER;CN="Jocelyn Martel/Alexandre Bourgeois":MAILTO:what-the-pork@hotmail.com
END:VEVENT
BEGIN:VEVENT
DTSTART;VALUE=DATE:20250726
DTEND;VALUE=DATE:20250728
DTSTAMP:20260424T204557
CREATED:20250227T194133Z
LAST-MODIFIED:20250227T194133Z
UID:5383-1753488000-1753660799@cbbqs.ca
SUMMARY:2025 Didsbury Lions BBQ
DESCRIPTION:PUBLIC WELCOME\nCome walk around and learn about competition bbq and meet some teams. We are at the Didsbury AG Society grounds this year.  10 to 6 pm Saturday and Sunday
URL:https://cbbqs.ca/event/2025-didsbury-lions-bbq/
LOCATION:Disbury Ag Society Grounds\, Township Rd 314\, Mountain View County\, Alberta\, T0M 0W0\, Canada
ATTACH;FMTTYPE=image/jpeg:https://cbbqs.ca/wp-content/uploads/2025/02/480342522_946955700950977_7001040536190971668_n.jpg
ORGANIZER;CN="Peter Braithwaite":MAILTO:petergbraithwaite@gmail.com
END:VEVENT
BEGIN:VEVENT
DTSTART;VALUE=DATE:20250719
DTEND;VALUE=DATE:20250721
DTSTAMP:20260424T204557
CREATED:20250227T193138Z
LAST-MODIFIED:20250227T193138Z
UID:5374-1752883200-1753055999@cbbqs.ca
SUMMARY:2025 The Great Atlantic BBQ Competition
DESCRIPTION:
URL:https://cbbqs.ca/event/2025-the-great-atlantic-bbq-competition/
LOCATION:Nova Scotia Provincial Exhibition\, 73 Ryland Ave\, Bible Hill\, Nova Scotia\, B2N 2V5\, Canada
ORGANIZER;CN="Kevin Bushey":MAILTO:kbushey@cnsse.ca
END:VEVENT
BEGIN:VEVENT
DTSTART;VALUE=DATE:20250719
DTEND;VALUE=DATE:20250720
DTSTAMP:20260424T204557
CREATED:20250227T193515Z
LAST-MODIFIED:20250806T195040Z
UID:5380-1752883200-1752969599@cbbqs.ca
SUMMARY:2025 Certified Barbeque Judging & Table Captain Class - Bible Hill\, Nova Scotia\, Canada - **CANCELLED**
DESCRIPTION:
URL:https://cbbqs.ca/event/2025-certified-barbeque-judging-table-captain-class-biblehill-nova-scotia-canada-copy/
LOCATION:Nova Scotia Provincial Exhibition\, 73 Ryland Ave\, Bible Hill\, Nova Scotia\, B2N 2V5\, Canada
ORGANIZER;CN="Matt McMasters":MAILTO:mattmcmasters@hotmail.com
END:VEVENT
BEGIN:VEVENT
DTSTART;TZID=America/Regina:20250630T080000
DTEND;TZID=America/Regina:20250701T170000
DTSTAMP:20260424T204557
CREATED:20250806T194945Z
LAST-MODIFIED:20250806T194945Z
UID:5520-1751270400-1751389200@cbbqs.ca
SUMMARY:2025 Blue Bombers BBQ Pit Master Showdown
DESCRIPTION:
URL:https://cbbqs.ca/event/2025-blue-bombers-bbq-pit-master-showdown/
LOCATION:Princess Auto Stadium\, 315 Chancellor Matheson Road\, Winnipeg\, Saskatchewan\, R3T 1Z2\, Canada
ORGANIZER;CN="JT Herr":MAILTO:jtherr@bluebombers.com
END:VEVENT
BEGIN:VEVENT
DTSTART;TZID=America/Regina:20250621T090000
DTEND;TZID=America/Regina:20250622T170000
DTSTAMP:20260424T204557
CREATED:20250227T192540Z
LAST-MODIFIED:20250227T192540Z
UID:4872-1750496400-1750611600@cbbqs.ca
SUMMARY:2025 Smokey Skies BBQ Competition
DESCRIPTION:Competition – June 21 – 22\, 2025 \n 
URL:https://cbbqs.ca/event/2025-smokey-skies-bbq-competition/
LOCATION:ODR Grounds\, 701 1st st.\, Kipling\, Saskatchewan\, S0G 2S0\, Canada
ATTACH;FMTTYPE=image/jpeg:https://cbbqs.ca/wp-content/uploads/2025/02/480970698_122221033970197815_3400723279965973434_n.jpg
ORGANIZER;CN="Mathew Bonville":MAILTO:matbonville@gmail.com
END:VEVENT
BEGIN:VEVENT
DTSTART;VALUE=DATE:20250620
DTEND;VALUE=DATE:20250621
DTSTAMP:20260424T204557
CREATED:20250806T194046Z
LAST-MODIFIED:20250806T194046Z
UID:5514-1750377600-1750463999@cbbqs.ca
SUMMARY:2025 Certified Barbeque Judging & Table Captain Class - Kipling\, SK\, Canada
DESCRIPTION:
URL:https://cbbqs.ca/event/2025-certified-barbeque-judging-table-captain-class-kipling-sk-canada/
LOCATION:Kipling\, Kipling\, Saskatchewan\, Canada
ORGANIZER;CN="Mathew Bonville":MAILTO:matbonville@gmail.com
END:VEVENT
BEGIN:VEVENT
DTSTART;TZID=America/St_Johns:20250607T090000
DTEND;TZID=America/St_Johns:20250607T090000
DTSTAMP:20260424T204557
CREATED:20250227T190752Z
LAST-MODIFIED:20250227T193323Z
UID:5360-1749286800-1749286800@cbbqs.ca
SUMMARY:2025 Certified Barbeque Judging & Table Captain Class - Upper Onslow\, Nova Scotia\, Canada
DESCRIPTION:
URL:https://cbbqs.ca/event/2025-certified-barbeque-judging-table-captain-class-upperonslow-nova-scotia-canada/
LOCATION:Warmth By Design\, 16 Hub Center Dr.\, Upper Onslow\, Nova Scotia\, B6L 0E2\, Canada
ORGANIZER;CN="Mike Fancy":MAILTO:info@fullthrottledesigns.ca
END:VEVENT
BEGIN:VEVENT
DTSTART;VALUE=DATE:20250606
DTEND;VALUE=DATE:20250609
DTSTAMP:20260424T204557
CREATED:20250227T191241Z
LAST-MODIFIED:20250227T191241Z
UID:5363-1749168000-1749427199@cbbqs.ca
SUMMARY:2025 Throttled Up BBQ Throwdown
DESCRIPTION:
URL:https://cbbqs.ca/event/2025-throttled-up-bbq-throwdown/
LOCATION:Warmth By Design\, 16 Hub Center Dr.\, Upper Onslow\, Nova Scotia\, B6L 0E2\, Canada
ATTACH;FMTTYPE=image/webp:https://cbbqs.ca/wp-content/uploads/2024/06/d4c131_40737740fdfb45fb9d3528ac7de3b245mv2.webp
ORGANIZER;CN="Mike Fancy":MAILTO:info@fullthrottledesigns.ca
END:VEVENT
BEGIN:VEVENT
DTSTART;VALUE=DATE:20250530
DTEND;VALUE=DATE:20250602
DTSTAMP:20260424T204557
CREATED:20250227T190017Z
LAST-MODIFIED:20250227T191030Z
UID:5355-1748563200-1748822399@cbbqs.ca
SUMMARY:2025 Small Town Smoke Down
DESCRIPTION:Set in a beautiful small town in Alberta\, the Small Town Smoke Down draws great BBQ talent from all over Canada and even from the US.
URL:https://cbbqs.ca/event/2025-small-town-smoke-down/
LOCATION:Bassano Community Hall\, 610 2 Ave\, Bassano\, Alberta\, T0J 0B0\, Canada
ATTACH;FMTTYPE=image/jpeg:https://cbbqs.ca/wp-content/uploads/2025/02/429946226_882530597003492_6193542596547342297_n.jpg
ORGANIZER;CN="Bernie Kenny":MAILTO:smokinboxbbq@gmail.com
END:VEVENT
END:VCALENDAR