BEGIN:VCALENDAR
VERSION:2.0
PRODID:-//Canadian BBQ Society - ECPv6.15.11//NONSGML v1.0//EN
CALSCALE:GREGORIAN
METHOD:PUBLISH
X-ORIGINAL-URL:https://cbbqs.ca
X-WR-CALDESC:Events for Canadian BBQ Society
REFRESH-INTERVAL;VALUE=DURATION:PT1H
X-Robots-Tag:noindex
X-PUBLISHED-TTL:PT1H
BEGIN:VTIMEZONE
TZID:America/Toronto
BEGIN:DAYLIGHT
TZOFFSETFROM:-0500
TZOFFSETTO:-0400
TZNAME:EDT
DTSTART:20250309T070000
END:DAYLIGHT
BEGIN:STANDARD
TZOFFSETFROM:-0400
TZOFFSETTO:-0500
TZNAME:EST
DTSTART:20251102T060000
END:STANDARD
BEGIN:DAYLIGHT
TZOFFSETFROM:-0500
TZOFFSETTO:-0400
TZNAME:EDT
DTSTART:20260308T070000
END:DAYLIGHT
BEGIN:STANDARD
TZOFFSETFROM:-0400
TZOFFSETTO:-0500
TZNAME:EST
DTSTART:20261101T060000
END:STANDARD
BEGIN:DAYLIGHT
TZOFFSETFROM:-0500
TZOFFSETTO:-0400
TZNAME:EDT
DTSTART:20270314T070000
END:DAYLIGHT
BEGIN:STANDARD
TZOFFSETFROM:-0400
TZOFFSETTO:-0500
TZNAME:EST
DTSTART:20271107T060000
END:STANDARD
END:VTIMEZONE
BEGIN:VEVENT
DTSTART;VALUE=DATE:20260619
DTEND;VALUE=DATE:20260622
DTSTAMP:20260424T150552
CREATED:20260203T152832Z
LAST-MODIFIED:20260203T152832Z
UID:5665-1781827200-1782086399@cbbqs.ca
SUMMARY:2026 New Lowell True North BBQ Bash
DESCRIPTION:
URL:https://cbbqs.ca/event/2026-new-lowell-true-north-bbq-bash/
LOCATION:Royal Canadian Legion Branch 516\, 5357 County Rd 9\, New Lowell\, Ontario\, L0M 1N0\, Canada
ORGANIZER;CN="Jake Forsyth":MAILTO:info@smokeshowentertainment.ca
END:VEVENT
END:VCALENDAR