BEGIN:VCALENDAR
VERSION:2.0
PRODID:-//Canadian BBQ Society - ECPv6.15.11//NONSGML v1.0//EN
CALSCALE:GREGORIAN
METHOD:PUBLISH
X-WR-CALNAME:Canadian BBQ Society
X-ORIGINAL-URL:https://cbbqs.ca
X-WR-CALDESC:Events for Canadian BBQ Society
REFRESH-INTERVAL;VALUE=DURATION:PT1H
X-Robots-Tag:noindex
X-PUBLISHED-TTL:PT1H
BEGIN:VTIMEZONE
TZID:UTC
BEGIN:STANDARD
TZOFFSETFROM:+0000
TZOFFSETTO:+0000
TZNAME:UTC
DTSTART:20250101T000000
END:STANDARD
END:VTIMEZONE
BEGIN:VTIMEZONE
TZID:America/Edmonton
BEGIN:DAYLIGHT
TZOFFSETFROM:-0700
TZOFFSETTO:-0600
TZNAME:MDT
DTSTART:20250309T090000
END:DAYLIGHT
BEGIN:STANDARD
TZOFFSETFROM:-0600
TZOFFSETTO:-0700
TZNAME:MST
DTSTART:20251102T080000
END:STANDARD
BEGIN:DAYLIGHT
TZOFFSETFROM:-0700
TZOFFSETTO:-0600
TZNAME:MDT
DTSTART:20260308T090000
END:DAYLIGHT
BEGIN:STANDARD
TZOFFSETFROM:-0600
TZOFFSETTO:-0700
TZNAME:MST
DTSTART:20261101T080000
END:STANDARD
BEGIN:DAYLIGHT
TZOFFSETFROM:-0700
TZOFFSETTO:-0600
TZNAME:MDT
DTSTART:20270314T090000
END:DAYLIGHT
BEGIN:STANDARD
TZOFFSETFROM:-0600
TZOFFSETTO:-0700
TZNAME:MST
DTSTART:20271107T080000
END:STANDARD
END:VTIMEZONE
BEGIN:VEVENT
DTSTART;VALUE=DATE:20260523
DTEND;VALUE=DATE:20260525
DTSTAMP:20260424T131422
CREATED:20260203T151752Z
LAST-MODIFIED:20260203T151752Z
UID:5656-1779494400-1779667199@cbbqs.ca
SUMMARY:2026 Jack 9 Memorial
DESCRIPTION:Competition – May 23-24\, 2026 \nKCBS Master Rules \nThe JACK9 Memorial BBQ Competition was created by the BBQ community in honour of our friend and BBQ Pitmaster\, Michael Chiarotto. Michael loved BBQ’ing and competing in BBQ competitions. \nThis competition is a great opportunity to bond around common interests while also determining who among us are the best BBQers. \nWith a laid-back atmosphere\, laughter\, and a chance to sample some of the best BBQ around\, this event is sure to be a hit with all who attend.
URL:https://cbbqs.ca/event/2026-jack-9-memorial/
LOCATION:Ramblin’ Road Brewery Farm\, 2970 Swimming Pool Rd.\, La Sallette\, Ontario\, N0E 1H0\, Canada
ORGANIZER;CN="David Hunnam":MAILTO:dhunnam@gmail.com
END:VEVENT
BEGIN:VEVENT
DTSTART;VALUE=DATE:20260523
DTEND;VALUE=DATE:20260525
DTSTAMP:20260424T131422
CREATED:20260203T152028Z
LAST-MODIFIED:20260203T152028Z
UID:5658-1779494400-1779667199@cbbqs.ca
SUMMARY:2026 Embers & Ice Competition
DESCRIPTION:Embers & Ice Pitmaster Championship May 23rd and 24th\, 2026 in Calmar\, AB
URL:https://cbbqs.ca/event/2026-embers-ice-competition/
LOCATION:Leduc West Antique Society\, 49541 RR 260\, Calmar\, Alberta\, T0C 0V0\, Canada
ATTACH;FMTTYPE=image/jpeg:https://cbbqs.ca/wp-content/uploads/2025/02/474592312_998001302378408_4213865195961845090_n.jpg
ORGANIZER;CN="Nelson Dos Santos":MAILTO:dossantos780@telus.net
END:VEVENT
END:VCALENDAR